BEGIN:VCALENDAR
METHOD:REQUEST
PRODID:-//github.com/rianjs/ical.net//NONSGML ical.net 4.0//EN
VERSION:2.0
BEGIN:VEVENT
CLASS:PUBLIC
CREATED:20260421T055112
DTEND;TZID=Central Standard Time;VALUE=DATE:20260514
DTSTAMP:20260421T125112Z
DTSTART;TZID=Central Standard Time;VALUE=DATE:20260512
LOCATION:<p><strong>South Padre Convention Center</strong></p>
ORGANIZER;CN=AtlasIED Marketing Team:mailto:marketing@atlasied.com
PRIORITY:5
SEQUENCE:0
SUMMARY:Region One ESC - Tech Conference
TRANSP:TRANSPARENT
UID:b59681e6-2265-4da2-898e-961fb42a4141
BEGIN:VALARM
ACTION:DISPLAY
SUMMARY:One day until Region One ESC - Tech Conference
TRIGGER:-P1D
END:VALARM
END:VEVENT
END:VCALENDAR
