BEGIN:VCALENDAR
METHOD:REQUEST
PRODID:-//github.com/rianjs/ical.net//NONSGML ical.net 4.0//EN
VERSION:2.0
BEGIN:VEVENT
CLASS:PUBLIC
CREATED:20260421T071525
DESCRIPTION:<p>Booth #830</p>
DTEND;TZID=Pacific Standard Time;VALUE=DATE:20261118
DTSTAMP:20260421T141525Z
DTSTART;TZID=Pacific Standard Time;VALUE=DATE:20261117
LOCATION:<p><strong>Anaheim Convention Center</strong></p>\n<p>800 W. Kate
 lla Ave.</p>\n<p>Anaheim\, CA 92802</p>
ORGANIZER;CN=AtlasIED Marketing Team:mailto:marketing@atlasied.com
PRIORITY:5
SEQUENCE:0
SUMMARY:CITE
TRANSP:TRANSPARENT
UID:57863a35-b4a5-4699-a4eb-64433a3b84ba
BEGIN:VALARM
ACTION:DISPLAY
SUMMARY:One day until CITE
TRIGGER:-P1D
END:VALARM
END:VEVENT
END:VCALENDAR
