BEGIN:VCALENDAR
METHOD:REQUEST
PRODID:-//github.com/rianjs/ical.net//NONSGML ical.net 4.0//EN
VERSION:2.0
BEGIN:VEVENT
CLASS:PUBLIC
CREATED:20260421T060008
DESCRIPTION:<p>Booth #N7132</p>
DTEND;TZID=Pacific Standard Time;VALUE=DATE:20260619
DTSTAMP:20260421T130008Z
DTSTART;TZID=Pacific Standard Time;VALUE=DATE:20260617
LOCATION:<p><strong>Las Vegas Convention Center</strong></p>\n<p>Las Vegas
 \, NV</p>
ORGANIZER;CN=AtlasIED Marketing Team:mailto:marketing@atlasied.com
PRIORITY:5
SEQUENCE:0
SUMMARY:InfoComm 2026
TRANSP:TRANSPARENT
UID:fff62954-da7a-4f3f-b6ec-bf16b64967f8
BEGIN:VALARM
ACTION:DISPLAY
SUMMARY:One day until InfoComm 2026
TRIGGER:-P1D
END:VALARM
END:VEVENT
END:VCALENDAR
